BEGIN:VCALENDAR
VERSION:2.0
PRODID:-//Mia Bosna Fine Art Illustrations - ECPv6.15.20//NONSGML v1.0//EN
CALSCALE:GREGORIAN
METHOD:PUBLISH
X-ORIGINAL-URL:https://miabosna.com
X-WR-CALDESC:Events for Mia Bosna Fine Art Illustrations
REFRESH-INTERVAL;VALUE=DURATION:PT1H
X-Robots-Tag:noindex
X-PUBLISHED-TTL:PT1H
BEGIN:VTIMEZONE
TZID:America/New_York
BEGIN:DAYLIGHT
TZOFFSETFROM:-0500
TZOFFSETTO:-0400
TZNAME:EDT
DTSTART:20230312T070000
END:DAYLIGHT
BEGIN:STANDARD
TZOFFSETFROM:-0400
TZOFFSETTO:-0500
TZNAME:EST
DTSTART:20231105T060000
END:STANDARD
BEGIN:DAYLIGHT
TZOFFSETFROM:-0500
TZOFFSETTO:-0400
TZNAME:EDT
DTSTART:20240310T070000
END:DAYLIGHT
BEGIN:STANDARD
TZOFFSETFROM:-0400
TZOFFSETTO:-0500
TZNAME:EST
DTSTART:20241103T060000
END:STANDARD
BEGIN:DAYLIGHT
TZOFFSETFROM:-0500
TZOFFSETTO:-0400
TZNAME:EDT
DTSTART:20250309T070000
END:DAYLIGHT
BEGIN:STANDARD
TZOFFSETFROM:-0400
TZOFFSETTO:-0500
TZNAME:EST
DTSTART:20251102T060000
END:STANDARD
BEGIN:DAYLIGHT
TZOFFSETFROM:-0500
TZOFFSETTO:-0400
TZNAME:EDT
DTSTART:20260308T070000
END:DAYLIGHT
BEGIN:STANDARD
TZOFFSETFROM:-0400
TZOFFSETTO:-0500
TZNAME:EST
DTSTART:20261101T060000
END:STANDARD
END:VTIMEZONE
BEGIN:VEVENT
DTSTART;TZID=America/New_York:20250418T000000
DTEND;TZID=America/New_York:20250420T000000
DTSTAMP:20260420T085711
CREATED:20250414T202138Z
LAST-MODIFIED:20250414T202952Z
UID:5790-1744934400-1745107200@miabosna.com
SUMMARY:Earth Day • Spring Retreat in Mt. Gretna
DESCRIPTION:Perceiving with all our senses invites the self into Earth’s sensory flow. Join us for a weekend of exploration with Plant Medicine in beautiful Mt. Gretna. We will be starting our day with a Qigong practice\, hiking for plants that have special medicine for us\, learning about their qualities and messages through shamanic journeys\, drumming\, and creating art & poetry that illuminate energetic portraits of our experiences. \nMany AirBnBs are available in Mt. Gretna for overnight accommodation. \nThis class is already full but will be offered again. Please fill out the contact information if you would like to be on the workshop list or would like to be a host for workshops at your home or business space.
URL:https://miabosna.com/events-workshops/earth-day-spring-retreat-in-mt-gretna/
LOCATION:The Nest in Mt. Gretna\, Mt. Gretna\, PA\, 17064\, United States
CATEGORIES:Plant Medicine,Shamanic Journeying
ATTACH;FMTTYPE=image/jpeg:https://miabosna.com/wp-content/uploads/mt._gretna_pas_chautauqua_community_visit_lebanon_valley.jpg
END:VEVENT
BEGIN:VEVENT
DTSTART;TZID=America/New_York:20241027T110000
DTEND;TZID=America/New_York:20241027T130000
DTSTAMP:20260420T085711
CREATED:20240905T160806Z
LAST-MODIFIED:20240905T161937Z
UID:5604-1730026800-1730034000@miabosna.com
SUMMARY:Journey to Rewilding • Part 3 • What future is waiting to emerge through you?
DESCRIPTION:What future is waiting to emerge through you? \nPart 1 required \nLearn about the gifts of threatened species and their unique way of presenting unique approaches to everyday issues. We’ll be investigating what is needed to create balance and answer your question of importance. With the help of our spiritual allies\, we’ll gain insight into the issues that will help us understand what blocks our personal growth and how to actualize elements from the information received. \nJoin us for a three-part series that offers an ancient skill of shamans for spiritual insight\, and healing for self and other sentient beings. Part 1 focuses on the basic skills of shamanic journeying\, Part 2 we’ll learn how to work with animal spirit helpers\, and Part 3 we’ll learn to use these skills to help us with personal issues of importance. (Part 1 is required for Part 2 and/or Part 3.) Take the introductory class\, two classes or all three for a reduced price of $65.
URL:https://miabosna.com/events-workshops/journey-to-rewilding-part-3-what-future-is-waiting-to-emerge-through-you/
LOCATION:Radiance & Herbs from the Labyrinth\, 13 W Grant Street\, Lancaster\, PA\, 17603\, United States
CATEGORIES:Shamanic Journeying
ATTACH;FMTTYPE=image/jpeg:https://miabosna.com/wp-content/uploads/Class3-©MiaBosna.jpg
END:VEVENT
BEGIN:VEVENT
DTSTART;TZID=America/New_York:20241020T110000
DTEND;TZID=America/New_York:20241020T130000
DTSTAMP:20260420T085711
CREATED:20240905T154923Z
LAST-MODIFIED:20240905T161826Z
UID:5599-1729422000-1729429200@miabosna.com
SUMMARY:Journey to Rewilding • Part 2 • Animal Helpers
DESCRIPTION:Join us for a three-part series that offers an ancient skill of shamans for spiritual insight\, and healing for self and other sentient beings. Part 1 focuses on the basic skills of shamanic journeying\, Part 2 we’ll learn how to work with animal spirit helpers\, and Part 3 we’ll learn to use these skills to help us with personal issues of importance. (Part 1 is required for Part 2 and/or Part 3.) Take the introductory class\, two classes or all three for a reduced price of $65. \nPART  II – Animal Helpers \nPart 1 required \nLearn how to work with the Journey to Rewilding Threatened Species Oracle cards and connect with our spiritual allies (animal helpers) in non-ordinary reality. We will learn how they communicate what is needed for us and for them\, and learn how to actualize this information in our everyday lives.
URL:https://miabosna.com/events-workshops/journey-to-rewilding-threatened-species-oracle-cards-animal-helpers/
LOCATION:Radiance & Herbs from the Labyrinth\, 13 W Grant Street\, Lancaster\, PA\, 17603\, United States
CATEGORIES:Journey To Rewilding Oracle Cards,Shamanic Journeying
ATTACH;FMTTYPE=image/jpeg:https://miabosna.com/wp-content/uploads/Class2MiaBosna@.jpg
END:VEVENT
BEGIN:VEVENT
DTSTART;TZID=America/New_York:20241013T110000
DTEND;TZID=America/New_York:20241013T130000
DTSTAMP:20260420T085711
CREATED:20240815T195710Z
LAST-MODIFIED:20240905T161701Z
UID:5565-1728817200-1728824400@miabosna.com
SUMMARY:Journey to Rewilding • Part 1 • Introduction to the Shamanic Journey
DESCRIPTION:Join us for a three-part series that offers an ancient skill of shamans for spiritual insight\, and healing for self and other sentient beings. Part 1 focuses on the basic skills of shamanic journeying\, Part 2 we’ll learn how to work with animal spirit helpers\, and Part 3 we’ll learn to use these skills to help us with personal issues of importance. (Part 1 is required for Part 2 and/or Part 3.) Take the introductory class\, two classes or all three for a reduced price of $65. \nPART I – Introduction to the Shamanic Journey  \nPrerequisite for part 2 and/or part 3 \nThe Shamanic journey is an ancient technique that has been practiced all over the world. A shaman’s journey is always deliberate\, purposeful\, and intentional. The journey takes place when we travel to other non-ordinary realities to contact our spiritual helpers for insight into our questions of importance. When the journey is completed we return to ordinary reality bringing information that can be applied to our everyday living experiences. We welcome both beginners and anyone looking to refresh their journeying skills. \nMia combines her talents as a visionary artist and Shamanic Practitioner to create visual healing stories that come from spiritual guidance\, Dreamtime and the natural world. Her current work focuses on the gifts of threatened species and offers various ways to share our spiritual traditions (Meditation\, Prayer\, Shamanic Journey) to envision restoration for ourselves and other sentient beings.
URL:https://miabosna.com/events-workshops/shamanic-journey-oracle-deck/
LOCATION:Radiance & Herbs from the Labyrinth\, 13 W Grant Street\, Lancaster\, PA\, 17603\, United States
CATEGORIES:Shamanic Journeying
ATTACH;FMTTYPE=image/jpeg:https://miabosna.com/wp-content/uploads/Class1web-MiaBosna.jpg
END:VEVENT
BEGIN:VEVENT
DTSTART;TZID=America/New_York:20240928T140000
DTEND;TZID=America/New_York:20240928T160000
DTSTAMP:20260420T085711
CREATED:20240710T212445Z
LAST-MODIFIED:20240905T203217Z
UID:5522-1727532000-1727539200@miabosna.com
SUMMARY:The Shamanic Journey
DESCRIPTION:Learn about Core Shamanism and meet your spiritual helpers  \nThe Shamanic journey is an ancient technique that has been practiced all over the world. A shaman’s journey is always deliberate\, purposeful\, and intentional. Learn how to journey to other realms\, and connect with your spiritual helpers for insight into your questions of importance.  \nMia Bosna is a Shamanic Practitioner and Illustrator of the Journey to Rewilding Oracle Deck. To learn more > \n 
URL:https://miabosna.com/events-workshops/shamanic-journey-workshop/
LOCATION:The Yoga Place\, 9 Hahnstown Road\, Ephrata\, PA\, 17522\, United States
CATEGORIES:Shamanic Journeying
ATTACH;FMTTYPE=image/jpeg:https://miabosna.com/wp-content/uploads/Class1web-MiaBosna.jpg
END:VEVENT
BEGIN:VEVENT
DTSTART;TZID=America/New_York:20240627T183000
DTEND;TZID=America/New_York:20240627T203000
DTSTAMP:20260420T085711
CREATED:20240528T022546Z
LAST-MODIFIED:20240528T144459Z
UID:5451-1719513000-1719520200@miabosna.com
SUMMARY:Shamanic Journeying
DESCRIPTION:Shamanism is an ancient spiritual practice that exists on every continent dating back 40\,000 years. This spiritual practice is based on the concept of animism\, which holds that all of nature possesses a spiritual essence. Our ancestors believed that our health and survival depended on maintaining a relationship between the natural and spiritual worlds.  \nCome and learn core Shamanic methods that will allow you to shift into a trance state with the aid of a traditional frame drum. We will enter a “non-ordinary” reality that allows us to explore with a clear intention\, meet with our spiritual guides and receive information that addresses this intention. We will meet with our most important spiritual guide that is known as a Power Animal and learn about their gifts\, talents\, guidance and protection.
URL:https://miabosna.com/events-workshops/shamanic-journeying/
LOCATION:The Yoga Place\, 9 Hahnstown Road\, Ephrata\, PA\, 17522\, United States
CATEGORIES:Shamanic Journeying
ATTACH;FMTTYPE=image/jpeg:https://miabosna.com/wp-content/uploads/©MiaBosna2008.jpg
END:VEVENT
BEGIN:VEVENT
DTSTART;TZID=America/New_York:20240526T110000
DTEND;TZID=America/New_York:20240526T143000
DTSTAMP:20260420T085711
CREATED:20240528T145543Z
LAST-MODIFIED:20240528T145918Z
UID:5462-1716721200-1716733800@miabosna.com
SUMMARY:Insights of the Holistic Steward
DESCRIPTION:Join us for an introduction to Shamanic Journeying and an oracle deck focused on threatened species and their special gifts. \nShamanic Journeying skills will assist us to meet our spiritual guides to gain insights as Holistic Stewards. For the beginner who is curious to meet animal spirit guides and those interested in connecting with species most in need. Together we can investigate our role as collaborators in the restoration of ourselves and other sentient beings of this earth. The Journey To Rewilding Oracle Card Set merges spirituality and conservation\, fostering compassion for local animal friends\, and offers a unique approach to shift our reality toward positive outcomes. \nEach participant will have a deck of cards and a companion book to use for the workshop which can be purchased after the workshop.
URL:https://miabosna.com/events-workshops/insights-of-the-holistic-steward/
LOCATION:Radiance & Herbs from the Labyrinth\, 13 W Grant Street\, Lancaster\, PA\, 17603\, United States
CATEGORIES:Guided Meditation,Journey To Rewilding Oracle Cards,Shamanic Journeying
ATTACH;FMTTYPE=image/jpeg:https://miabosna.com/wp-content/uploads/BookCards-sm-MiaBosna.jpg
END:VEVENT
END:VCALENDAR